BEGIN:VCALENDAR
VERSION:2.0
PRODID:-//MG Car Club News - ECPv6.15.20//NONSGML v1.0//EN
CALSCALE:GREGORIAN
METHOD:PUBLISH
X-WR-CALNAME:MG Car Club News
X-ORIGINAL-URL:https://www.mgccsunshinecoast.com/mg
X-WR-CALDESC:Events for MG Car Club News
REFRESH-INTERVAL;VALUE=DURATION:PT1H
X-Robots-Tag:noindex
X-PUBLISHED-TTL:PT1H
BEGIN:VTIMEZONE
TZID:Australia/Brisbane
BEGIN:STANDARD
TZOFFSETFROM:+1000
TZOFFSETTO:+1000
TZNAME:AEST
DTSTART:20250101T000000
END:STANDARD
END:VTIMEZONE
BEGIN:VEVENT
DTSTART;TZID=Australia/Brisbane:20260920T090000
DTEND;TZID=Australia/Brisbane:20260920T143000
DTSTAMP:20260420T020034
CREATED:20260219T064904Z
LAST-MODIFIED:20260219T065009Z
UID:3441-1789894800-1789914600@www.mgccsunshinecoast.com
SUMMARY:September Sunday Run
DESCRIPTION:Jerry and Cathy are the organisers for this event\, Watch this space closer to the time
URL:https://www.mgccsunshinecoast.com/mg/event/sunday-run/
LOCATION:TBA\, Queensland\, Australia
ORGANIZER;CN="Jerry &amp%3B Cathy McBrien":MAILTO:jerrymcbrien@gmail.com
END:VEVENT
END:VCALENDAR