BEGIN:VCALENDAR
VERSION:2.0
PRODID:-//MG Car Club News - ECPv6.15.20//NONSGML v1.0//EN
CALSCALE:GREGORIAN
METHOD:PUBLISH
X-ORIGINAL-URL:https://www.mgccsunshinecoast.com/mg
X-WR-CALDESC:Events for MG Car Club News
REFRESH-INTERVAL;VALUE=DURATION:PT1H
X-Robots-Tag:noindex
X-PUBLISHED-TTL:PT1H
BEGIN:VTIMEZONE
TZID:Australia/Brisbane
BEGIN:STANDARD
TZOFFSETFROM:+1000
TZOFFSETTO:+1000
TZNAME:AEST
DTSTART:20240101T000000
END:STANDARD
END:VTIMEZONE
BEGIN:VEVENT
DTSTART;TZID=Australia/Brisbane:20250107T100000
DTEND;TZID=Australia/Brisbane:20250107T120000
DTSTAMP:20260419T232046
CREATED:20250103T011016Z
LAST-MODIFIED:20250103T011016Z
UID:3185-1736244000-1736251200@www.mgccsunshinecoast.com
SUMMARY:January Coffee and Cakes
DESCRIPTION:When-Tuesday 7th January\, 10-12am \nWhere-Castellos Cafe\, 4/12-14 King St Buderim. \nNo RSVP\, just turn up. Wives/Partners welcome.
URL:https://www.mgccsunshinecoast.com/mg/event/january-coffee-and-cakes-3/
LOCATION:Castello Cafe\, 4/12-14 King St\, Buderim
END:VEVENT
BEGIN:VEVENT
DTSTART;TZID=Australia/Brisbane:20250109T120000
DTEND;TZID=Australia/Brisbane:20250109T140000
DTSTAMP:20260419T232046
CREATED:20250109T222123Z
LAST-MODIFIED:20250109T222123Z
UID:3191-1736424000-1736431200@www.mgccsunshinecoast.com
SUMMARY:Non Run Lunch only
DESCRIPTION:This is a Lunch only to be held at the Woombye Pub just to kick the year off
URL:https://www.mgccsunshinecoast.com/mg/event/non-run-lunch-only/
LOCATION:Woombye Hotel\, Blackhall St \, Woombye\, QLD\, Australia
ORGANIZER;CN="Les Dixon":MAILTO:lesdixon7@gmail.com
END:VEVENT
BEGIN:VEVENT
DTSTART;TZID=Australia/Brisbane:20250114T083000
DTEND;TZID=Australia/Brisbane:20250114T110000
DTSTAMP:20260419T232046
CREATED:20241129T053518Z
LAST-MODIFIED:20250103T010408Z
UID:3163-1736843400-1736852400@www.mgccsunshinecoast.com
SUMMARY:Older Car Group Run
DESCRIPTION:See email for details from Les Dixon [Tony Slattery] dated 3/1/25
URL:https://www.mgccsunshinecoast.com/mg/event/older-car-group-run-2/
LOCATION:52 Lysaght Street Coolum\, 52 Lysaght St\, Coolum\, Qld
ORGANIZER;CN="Tony Slattery":MAILTO:thetheclassicworkshop67@gmail.com
END:VEVENT
BEGIN:VEVENT
DTSTART;TZID=Australia/Brisbane:20250126T080000
DTEND;TZID=Australia/Brisbane:20250126T133000
DTSTAMP:20260419T232046
CREATED:20241006T232425Z
LAST-MODIFIED:20241006T232520Z
UID:3145-1737878400-1737898200@www.mgccsunshinecoast.com
SUMMARY:Australia Day Breakfast/Sports Day
DESCRIPTION:The Dunn’s are the organisers for this event. \nThis year they are having one of their sports days which have been held in the past. The events are verrrry user friendly “ALL” members will be able to participate without embarrassing themselves or others present\, a fun day is promised. \nIt is to  be held at the Witta Oval made famous by Bob’s annual cricket day. \nMore info to come closer to the day. \nRSVP to Brian or Leone
URL:https://www.mgccsunshinecoast.com/mg/event/australia-day-breakfast-sports-day/
LOCATION:Witta School Oval\, Witta Rd\, Witta\, QLD\, Australia
ORGANIZER;CN="Brian &amp%3B Leone Dunn":MAILTO:bdunn50@bigpond.com
END:VEVENT
BEGIN:VEVENT
DTSTART;TZID=Australia/Brisbane:20250127T080000
DTEND;TZID=Australia/Brisbane:20250127T170000
DTSTAMP:20260419T232046
CREATED:20250127T043510Z
LAST-MODIFIED:20250127T043510Z
UID:3234-1737964800-1737997200@www.mgccsunshinecoast.com
SUMMARY:May Midweek Run
DESCRIPTION:
URL:https://www.mgccsunshinecoast.com/mg/event/may-midweek-run-3/
LOCATION:Queensland
END:VEVENT
END:VCALENDAR