BEGIN:VCALENDAR
VERSION:2.0
PRODID:-//MG Car Club News - ECPv6.15.20//NONSGML v1.0//EN
CALSCALE:GREGORIAN
METHOD:PUBLISH
X-WR-CALNAME:MG Car Club News
X-ORIGINAL-URL:https://www.mgccsunshinecoast.com/mg
X-WR-CALDESC:Events for MG Car Club News
REFRESH-INTERVAL;VALUE=DURATION:PT1H
X-Robots-Tag:noindex
X-PUBLISHED-TTL:PT1H
BEGIN:VTIMEZONE
TZID:Australia/Brisbane
BEGIN:STANDARD
TZOFFSETFROM:+1000
TZOFFSETTO:+1000
TZNAME:AEST
DTSTART:20230101T000000
END:STANDARD
END:VTIMEZONE
BEGIN:VEVENT
DTSTART;TZID=Australia/Brisbane:20240502T093000
DTEND;TZID=Australia/Brisbane:20240502T143000
DTSTAMP:20260420T000642
CREATED:20240119T233718Z
LAST-MODIFIED:20240423T040200Z
UID:2959-1714642200-1714660200@www.mgccsunshinecoast.com
SUMMARY:May Mid Week Run
DESCRIPTION:David & Carolyn Jones have put their hand up to do this event \nStart point-Ben Bennett Botanical Park\, Sugar Bag/Queen St Caloundra. [Opposite Sunshine Baptist Church 91 Queen St & adjacent to Caloundra High School] David will have his red MGB parked at the entrance  [UBD ref page 100 D 13] \nStart Time-9\,30am for 10.00 start 2/05/24 \nDavid has an exciting run on more new roads BYO MORNING AT START finishing at the Baringa Hotel for lunch \nRSVP to David before Monday night 29th April    dcjones330@bigpond.com  or  0437 479 954 \n 
URL:https://www.mgccsunshinecoast.com/mg/event/may-mid-week-run-2/
LOCATION:Ben Bennett Park\, 92 Queen St\, Caloundra\, QLD\, Australia
END:VEVENT
BEGIN:VEVENT
DTSTART;TZID=Australia/Brisbane:20240504T080000
DTEND;TZID=Australia/Brisbane:20240506T150000
DTSTAMP:20260420T000642
CREATED:20240216T020927Z
LAST-MODIFIED:20240216T021253Z
UID:2988-1714809600-1715007600@www.mgccsunshinecoast.com
SUMMARY:Weekend away [Ipswich Festival]
DESCRIPTION:The club is planning a weekend away for 2 nights at “Woodlands Marburg” a luxury accomodation complex at Marburg and attending motoring\, planes and trains festivities throughout the weekend associated with the Ipswich Festival. \nIf interested please contact Brian Cather  bmcather@bigpond.com  or  lesdixon7@gmail.com ASAP as accommodation is short in the area. \n 
URL:https://www.mgccsunshinecoast.com/mg/event/weekend-away-ipswich-festival/
LOCATION:TBA\, Queensland\, Australia
END:VEVENT
BEGIN:VEVENT
DTSTART;TZID=Australia/Brisbane:20240512T100000
DTEND;TZID=Australia/Brisbane:20240512T143000
DTSTAMP:20260420T000642
CREATED:20240509T013402Z
LAST-MODIFIED:20240509T013402Z
UID:3043-1715508000-1715524200@www.mgccsunshinecoast.com
SUMMARY:Rolls Royce Display
DESCRIPTION:There is to be a display by the Rolls Royce Club to be held at the Coolum RSL Sunday 12th May\, between 10.00am and 2.30 \nThis is open to all who wish to attend
URL:https://www.mgccsunshinecoast.com/mg/event/rolls-royce-display/
LOCATION:Coolum RSL\, 1906 David Low Way\, Coolum
END:VEVENT
BEGIN:VEVENT
DTSTART;TZID=Australia/Brisbane:20240523T180000
DTEND;TZID=Australia/Brisbane:20240523T203000
DTSTAMP:20260420T000642
CREATED:20240119T014557Z
LAST-MODIFIED:20240320T233942Z
UID:2955-1716487200-1716496200@www.mgccsunshinecoast.com
SUMMARY:Annual Tafe Dinner/Noggin
DESCRIPTION:Brian and Leone Dunn are again the organisers for this “Prestigous” event on our calendar. \nThis date is now locked in. Price this year is $42\,50 per head PLUS purchase your own drinks at a very good price from the in house bar. \nThis is and excellent night out and great value for a 5 course silver service meal AND not to mention the wonderful people you get to dine with. \nThere is limited seats available\, best in best dressed?????
URL:https://www.mgccsunshinecoast.com/mg/event/annual-tafe-dinner-noggin/
LOCATION:Mooloolaba TAFE\, 34 Lady Musgrave Drive\, Mooloolaba\, Queensland\, Australia
ORGANIZER;CN="Brian &amp%3B Leone Dunn":MAILTO:bdunn50@bigpond.com
END:VEVENT
BEGIN:VEVENT
DTSTART;TZID=Australia/Brisbane:20240526T093000
DTEND;TZID=Australia/Brisbane:20240526T143000
DTSTAMP:20260420T000642
CREATED:20240119T234343Z
LAST-MODIFIED:20240512T004637Z
UID:2963-1716715800-1716733800@www.mgccsunshinecoast.com
SUMMARY:May Sunday Run
DESCRIPTION:Graeme and Jan Smith have taken this slot. \nStart Time-Sunday\, 26th May. 9.30am for 10.00 start \nStart Point-Pioneer Park\, Caloundra St\, Landsborough \nGraeme has an interesting run finishing at the Mountain Creek Hotel for lunch\, been here for dinner\, was good. \nMore details to come.
URL:https://www.mgccsunshinecoast.com/mg/event/may-mid-week-run-3/
LOCATION:Pioneer Park\, Caloundra Street\, Landsborough\, Queensland\, 4550\, Australia
END:VEVENT
END:VCALENDAR