BEGIN:VCALENDAR
VERSION:2.0
PRODID:-//MG Car Club News - ECPv6.15.20//NONSGML v1.0//EN
CALSCALE:GREGORIAN
METHOD:PUBLISH
X-ORIGINAL-URL:https://www.mgccsunshinecoast.com/mg
X-WR-CALDESC:Events for MG Car Club News
REFRESH-INTERVAL;VALUE=DURATION:PT1H
X-Robots-Tag:noindex
X-PUBLISHED-TTL:PT1H
BEGIN:VTIMEZONE
TZID:Australia/Brisbane
BEGIN:STANDARD
TZOFFSETFROM:+1000
TZOFFSETTO:+1000
TZNAME:AEST
DTSTART:20230101T000000
END:STANDARD
END:VTIMEZONE
BEGIN:VEVENT
DTSTART;TZID=Australia/Brisbane:20240305T100000
DTEND;TZID=Australia/Brisbane:20240305T120000
DTSTAMP:20260420T004618
CREATED:20240119T235140Z
LAST-MODIFIED:20240119T235140Z
UID:2969-1709632800-1709640000@www.mgccsunshinecoast.com
SUMMARY:March Coffee and Cakes
DESCRIPTION:Start Time-10.00am-Midday\, Tuesday 5th March \nWhere-Castello’s Cafe 4-12/14 Knig St\, Buderim \nNo RSVP\, just turn up
URL:https://www.mgccsunshinecoast.com/mg/event/march-coffee-and-cakes-4/
LOCATION:Castello Cafe\, 4/12-14 King St\, Buderim
END:VEVENT
BEGIN:VEVENT
DTSTART;TZID=Australia/Brisbane:20240307T090000
DTEND;TZID=Australia/Brisbane:20240307T143000
DTSTAMP:20260420T004618
CREATED:20240119T234012Z
LAST-MODIFIED:20240220T005406Z
UID:2961-1709802000-1709821800@www.mgccsunshinecoast.com
SUMMARY:March Mid Week Run
DESCRIPTION:Bob and Marie have put their hand up to organise this run \nStart Time-9.00am for 9.15 Thursday &th March \nStart Point-Ewan Maddock Dam car park\, UBD Ref\, Page 97\, E 3 Mooloolah Connection Rd\, Mooloolah. LH approximately 2 klm from the Steve Irwin Way intersection and traffic lights. BYO morning tea for later and lunch at the Maleny Hotel. \nRSVP to Bob before Monday night 4th March
URL:https://www.mgccsunshinecoast.com/mg/event/march-mid-week-run/
LOCATION:Ewan Maddick Dam picnic area\, 221 Mooloolah Connection Rd\, Mooloolah\, Queensland\, Australia
ORGANIZER;CN="Bob &amp%3B Marie Wagg":MAILTO:waggs31@bigpond.com
END:VEVENT
BEGIN:VEVENT
DTSTART;TZID=Australia/Brisbane:20240321T123000
DTEND;TZID=Australia/Brisbane:20240321T143000
DTSTAMP:20260420T004618
CREATED:20231222T031612Z
LAST-MODIFIED:20231222T031612Z
UID:2939-1711024200-1711031400@www.mgccsunshinecoast.com
SUMMARY:March Noggin N Natter
DESCRIPTION:Time-Thursday\, March 21st 12.30pm \nVenue-Periwinkles French restaurant\,2/216 David Low Way\, Peregian Beach \nRSVP before Monday night 18/03/24
URL:https://www.mgccsunshinecoast.com/mg/event/march-noggin-n-natter-5/
LOCATION:Periwinkles French Restaurant\, Shop 2/216 David Low Way\, Peregian Beach\, Qld\, Australia
END:VEVENT
BEGIN:VEVENT
DTSTART;TZID=Australia/Brisbane:20240324T080000
DTEND;TZID=Australia/Brisbane:20240324T140000
DTSTAMP:20260420T004618
CREATED:20231115T025024Z
LAST-MODIFIED:20240119T012018Z
UID:2911-1711267200-1711288800@www.mgccsunshinecoast.com
SUMMARY:St Pat's Day Memorial Run/Sunday Run
DESCRIPTION:Sean and Bonnie are organising this event again\, you need to come along\, can they beat their last years effort?????????? \nThis is the second of our fundraisers for the year. For those going to the “Warbirds” in NZ [25th] you will need to be packed Saturday. \nStart Time-9.30am for 9.45\, Sunday\, 24th March 2024 \nStart Point-Pioneer Park\, Landsborough \nA short run to the Witta School Oval where Bonnies Famous Chocolate Guinness Cupcakes will be available for morning tea. BYO all other ingrediants for your morning tea including tables chairs etc\, toilets available on site. \nWe will then be entertained by the “World Famous Leprechaun\, Sean” I have heard we will learn more about St Patrick ????…………..The Sean Version!! \nAfter the entertainment another short “Trivia Run” before arriving back to school for lunch. Guinness Stew\, [Red meat\, Beef stock\, Guinness and Veggies] and Irish Soda Bread. All made by our hosts Sean and Bonnie. For those with dietary requirements this menu does not suit please BYO. \nPrize giving after lunch\, Best Dressed People and the results of the Trivia run. \nSounds to me like they have raised the bar even higher than previous years. \nRSVP to Sean/Bonnie before Wednesday night 20th March
URL:https://www.mgccsunshinecoast.com/mg/event/st-pats-day-memorial-run-sunday-run/
LOCATION:Pioneer Park\, Caloundra Street\, Landsborough\, Queensland\, 4550\, Australia
END:VEVENT
BEGIN:VEVENT
DTSTART;TZID=Australia/Brisbane:20240325T080000
DTEND;TZID=Australia/Brisbane:20240410T170000
DTSTAMP:20260420T004618
CREATED:20231110T023607Z
LAST-MODIFIED:20231110T023607Z
UID:2903-1711353600-1712768400@www.mgccsunshinecoast.com
SUMMARY:Warbirds Over Wanaka  NZ
DESCRIPTION:Planning for this is well under way including the major event at Wanaka\, Tours\, Accommodation etc. \n 
URL:https://www.mgccsunshinecoast.com/mg/event/warbirds-over-wanaka-nz/
LOCATION:Not Required
END:VEVENT
BEGIN:VEVENT
DTSTART;TZID=Australia/Brisbane:20240329T080000
DTEND;TZID=Australia/Brisbane:20240401T170000
DTSTAMP:20260420T004618
CREATED:20231110T022028Z
LAST-MODIFIED:20231110T022028Z
UID:2900-1711699200-1711990800@www.mgccsunshinecoast.com
SUMMARY:MG Car Club National AGM
DESCRIPTION:The AGM weekend for our National MG Organisation is to be held at Tamworth over Easter 2024 29th March-1st April. \nIf you would like to attend you need to get on to it as accommodation is tight over this weekend \nFurther info contact me—0407 447 515  or  lesdixon7@gmail.com
URL:https://www.mgccsunshinecoast.com/mg/event/mg-car-club-national-agm/
LOCATION:Tamworth NSW\, Australia
ORGANIZER;CN="Les Dixon":MAILTO:lesdixon7@gmail.com
END:VEVENT
END:VCALENDAR