BEGIN:VCALENDAR
VERSION:2.0
PRODID:-//MG Car Club News - ECPv6.15.20//NONSGML v1.0//EN
CALSCALE:GREGORIAN
METHOD:PUBLISH
X-WR-CALNAME:MG Car Club News
X-ORIGINAL-URL:https://www.mgccsunshinecoast.com/mg
X-WR-CALDESC:Events for MG Car Club News
REFRESH-INTERVAL;VALUE=DURATION:PT1H
X-Robots-Tag:noindex
X-PUBLISHED-TTL:PT1H
BEGIN:VTIMEZONE
TZID:Australia/Brisbane
BEGIN:STANDARD
TZOFFSETFROM:+1000
TZOFFSETTO:+1000
TZNAME:AEST
DTSTART:20250101T000000
END:STANDARD
END:VTIMEZONE
BEGIN:VEVENT
DTSTART;TZID=Australia/Brisbane:20260416T110000
DTEND;TZID=Australia/Brisbane:20260416T143000
DTSTAMP:20260419T223457
CREATED:20260314T045346Z
LAST-MODIFIED:20260314T045346Z
UID:3456-1776337200-1776349800@www.mgccsunshinecoast.com
SUMMARY:2026 Tafe Dinner
DESCRIPTION:This year there are changes with the dates for the Tafe Dinner being allocated to our Club as below—- \n!st April\, 2nd April  and 22nd April. there will be no Noggin this month but there will be a casual outing for those that need to take their car for a short run. it is a busy month with the split Tafe event\, Easter and Anzac. \nWatch this space—It may not happen on this date
URL:https://www.mgccsunshinecoast.com/mg/event/2026-tafe-dinner/
LOCATION:TBA\, Queensland\, Australia
ORGANIZER;CN="Les Dixon":MAILTO:lesdixon7@gmail.com
END:VEVENT
END:VCALENDAR