BEGIN:VCALENDAR
VERSION:2.0
PRODID:-//MG Car Club News - ECPv6.15.20//NONSGML v1.0//EN
CALSCALE:GREGORIAN
METHOD:PUBLISH
X-ORIGINAL-URL:https://www.mgccsunshinecoast.com/mg
X-WR-CALDESC:Events for MG Car Club News
REFRESH-INTERVAL;VALUE=DURATION:PT1H
X-Robots-Tag:noindex
X-PUBLISHED-TTL:PT1H
BEGIN:VTIMEZONE
TZID:Australia/Brisbane
BEGIN:STANDARD
TZOFFSETFROM:+1000
TZOFFSETTO:+1000
TZNAME:AEST
DTSTART:20250101T000000
END:STANDARD
END:VTIMEZONE
BEGIN:VEVENT
DTSTART;VALUE=DATE:20260427
DTEND;VALUE=DATE:20260428
DTSTAMP:20260421T213300
CREATED:20240518T021826Z
LAST-MODIFIED:20250511T235847Z
UID:3059-1777248000-1777334399@www.mgccsunshinecoast.com
SUMMARY:2026 MG National Meeting
DESCRIPTION:To be held in Hahndorf by MG Club South Australia \nfrom Monday 27thApril [not easter] \nWatch this space for more info as it comes available
URL:https://www.mgccsunshinecoast.com/mg/event/2026-mg-national-meeting/
LOCATION:TBA\, Queensland\, Australia
END:VEVENT
END:VCALENDAR